BEGIN:VCALENDAR
VERSION:2.0
PRODID:-//programspikto//FR
CALSCALE:GREGORIAN
METHOD:PUBLISH
BEGIN:VEVENT
UID:atelier-cas-clinique-mai@programspikto.com
DTSTAMP:20260423T120710Z
DTSTART:20260505T042555Z
DTEND:20260505T055555Z
SUMMARY:Atelier de cas clinique : trouble attentionnel léger
DESCRIPTION:Atelier interactif réservé aux membres premium. Étude d'un c
 as clinique réel (anonymisé)\\, discussion en petits groupes\\, retours 
 d'expérience.\\n\\nApportez vos questions et vos cas\\, on les discute en
  groupe.\n\nhttps://programspikto.com/agenda/atelier-cas-clinique-mai
LOCATION:https://meet.google.com/aaa-bbbb-cccc
URL:https://programspikto.com/agenda/atelier-cas-clinique-mai
END:VEVENT
END:VCALENDAR