BEGIN:VCALENDAR
VERSION:2.0
PRODID:-//programspikto//FR
CALSCALE:GREGORIAN
METHOD:PUBLISH
BEGIN:VEVENT
UID:rencontre-physique-paris@programspikto.com
DTSTAMP:20260423T115615Z
DTSTART:20260521T132555Z
DTEND:20260521T212555Z
SUMMARY:Rencontre annuelle des coachs — Paris
DESCRIPTION:Journée de rencontre physique : conférences\\, ateliers\\, ne
 tworking. Salle réservée à Paris 11e.\\n\\nRestauration sur place (incl
 use pour les premium).\n\nhttps://programspikto.com/agenda/rencontre-physi
 que-paris
LOCATION:23 rue de la Roquette\\, 75011 Paris
URL:https://programspikto.com/agenda/rencontre-physique-paris
END:VEVENT
END:VCALENDAR