BEGIN:VCALENDAR
VERSION:2.0
PRODID:-//programspikto//FR
CALSCALE:GREGORIAN
METHOD:PUBLISH
BEGIN:VEVENT
UID:webinaire-decouverte-avril@programspikto.com
DTSTAMP:20260423T115615Z
DTSTART:20260428T042555Z
DTEND:20260428T052555Z
SUMMARY:Webinaire découverte : la neuro-gym pour les seniors
DESCRIPTION:Une session d'1h pour découvrir les principes de la neuro-gymn
 astique et 3 exercices à utiliser dès demain avec vos clients seniors.\\
 n\\nAu programme :\\n- Définition et bases scientifiques (15 min)\\n- 3 e
 xercices concrets à faire ensemble (30 min)\\n- Q&A avec les participants
  (15 min)\n\nhttps://programspikto.com/agenda/webinaire-decouverte-avril
LOCATION:https://meet.google.com/xxx-yyyy-zzz
URL:https://programspikto.com/agenda/webinaire-decouverte-avril
END:VEVENT
END:VCALENDAR