BEGIN:VCALENDAR
VERSION:2.0
PRODID:-//programspikto//FR
CALSCALE:GREGORIAN
METHOD:PUBLISH
BEGIN:VEVENT
UID:webinaire-passe-mars@programspikto.com
DTSTAMP:20260423T115718Z
DTSTART:20260411T042555Z
DTEND:20260411T052555Z
SUMMARY:Webinaire — Mémoire de travail
DESCRIPTION:Première session de la série dédiée aux fonctions cognitive
 s. Avec les bases neurologiques et 5 exercices pratiques.\n\nhttps://progr
 amspikto.com/agenda/webinaire-passe-mars
LOCATION:https://meet.google.com/old-event-link
URL:https://programspikto.com/agenda/webinaire-passe-mars
END:VEVENT
END:VCALENDAR